Package: decontam Version: 1.27.0 Command: /Library/Frameworks/R.framework/Resources/bin/R CMD build --keep-empty-dirs --no-resave-data decontam StartedAt: 2025-02-09 16:04:21 -0500 (Sun, 09 Feb 2025) EndedAt: 2025-02-09 16:04:32 -0500 (Sun, 09 Feb 2025) EllapsedTime: 11.1 seconds RetCode: 0 Status: OK PackageFile: decontam_1.27.0.tar.gz PackageFileSize: 724 KiB