Package: decontam Version: 1.27.0 Command: /Library/Frameworks/R.framework/Resources/bin/R CMD INSTALL decontam StartedAt: 2025-02-09 15:05:40 -0500 (Sun, 09 Feb 2025) EndedAt: 2025-02-09 15:05:42 -0500 (Sun, 09 Feb 2025) EllapsedTime: 2.1 seconds RetCode: 0 Status: OK