Package: decontam Version: 1.27.0 Command: /home/biocbuild/R/R/bin/R CMD build --keep-empty-dirs --no-resave-data decontam StartedAt: 2025-01-28 22:18:51 -0000 (Tue, 28 Jan 2025) EndedAt: 2025-01-28 22:19:32 -0000 (Tue, 28 Jan 2025) EllapsedTime: 41.0 seconds RetCode: 0 Status: OK PackageFile: decontam_1.27.0.tar.gz PackageFileSize: 538.7 KiB