Package: decontam Version: 1.27.0 Command: /home/biocbuild/R/R/bin/R CMD INSTALL decontam StartedAt: 2025-01-29 19:37:01 -0000 (Wed, 29 Jan 2025) EndedAt: 2025-01-29 19:37:07 -0000 (Wed, 29 Jan 2025) EllapsedTime: 6.0 seconds RetCode: 0 Status: OK