Package: decontam Version: 1.27.0 Command: rm -rf decontam.buildbin-libdir && mkdir decontam.buildbin-libdir && /Users/biocbuild/BBS/utils/build-universal.sh decontam_1.27.0.tar.gz /Library/Frameworks/R.framework/Resources/bin/R decontam.buildbin-libdir StartedAt: 2025-02-10 00:49:48 -0500 (Mon, 10 Feb 2025) EndedAt: 2025-02-10 00:49:56 -0500 (Mon, 10 Feb 2025) EllapsedTime: 8.1 seconds RetCode: 0 Status: OK PackageFile: decontam_1.27.0.tgz PackageFileSize: 759.9 KiB