Package: decontam Version: 1.27.0 Command: /Library/Frameworks/R.framework/Resources/bin/R CMD INSTALL decontam StartedAt: 2025-02-09 15:08:32 -0500 (Sun, 09 Feb 2025) EndedAt: 2025-02-09 15:08:51 -0500 (Sun, 09 Feb 2025) EllapsedTime: 19.1 seconds RetCode: 0 Status: OK