Package: decontam Version: 1.27.0 Command: /home/biocbuild/bbs-3.21-bioc/R/bin/R CMD build --keep-empty-dirs --no-resave-data decontam StartedAt: 2025-02-09 16:54:49 -0500 (Sun, 09 Feb 2025) EndedAt: 2025-02-09 16:55:18 -0500 (Sun, 09 Feb 2025) EllapsedTime: 29.1 seconds RetCode: 0 Status: OK PackageFile: decontam_1.27.0.tar.gz PackageFileSize: 702.5 KiB