Package: decontam Version: 1.27.0 Command: rm -rf decontam.buildbin-libdir && mkdir decontam.buildbin-libdir && E:\biocbuild\bbs-3.21-bioc\R\bin\R.exe CMD INSTALL --build --library=decontam.buildbin-libdir decontam_1.27.0.tar.gz StartedAt: 2025-02-10 07:35:19 -0500 (Mon, 10 Feb 2025) EndedAt: 2025-02-10 07:35:33 -0500 (Mon, 10 Feb 2025) EllapsedTime: 13.5 seconds RetCode: 0 Status: OK PackageFile: decontam_1.27.0.zip PackageFileSize: 503.9 KiB