Package: decontam Version: 1.27.0 Command: E:\biocbuild\bbs-3.21-bioc\R\bin\R.exe CMD check --no-multiarch --install=check:decontam.install-out.txt --library=E:\biocbuild\bbs-3.21-bioc\R\library --no-vignettes --timings decontam_1.27.0.tar.gz StartedAt: 2025-02-10 00:15:57 -0500 (Mon, 10 Feb 2025) EndedAt: 2025-02-10 00:16:55 -0500 (Mon, 10 Feb 2025) EllapsedTime: 58.2 seconds RetCode: 0 Status: OK CheckDir: decontam.Rcheck Warnings: 0