Package: deconvR Version: 1.13.0 Command: rm -rf deconvR.buildbin-libdir && mkdir deconvR.buildbin-libdir && /Users/biocbuild/BBS/utils/build-universal.sh deconvR_1.13.0.tar.gz /Library/Frameworks/R.framework/Resources/bin/R deconvR.buildbin-libdir StartedAt: 2025-02-09 22:11:42 -0500 (Sun, 09 Feb 2025) EndedAt: 2025-02-09 22:12:04 -0500 (Sun, 09 Feb 2025) EllapsedTime: 22.4 seconds RetCode: 0 Status: OK PackageFile: deconvR_1.13.0.tgz PackageFileSize: 3.813 MiB