Package: deconvR Version: 1.13.0 Command: /Library/Frameworks/R.framework/Resources/bin/R CMD build --keep-empty-dirs --no-resave-data deconvR StartedAt: 2025-02-12 16:05:24 -0500 (Wed, 12 Feb 2025) EndedAt: 2025-02-12 16:06:17 -0500 (Wed, 12 Feb 2025) EllapsedTime: 52.5 seconds RetCode: 0 Status: OK PackageFile: deconvR_1.13.0.tar.gz PackageFileSize: 3.789 MiB