Package: deconvR Version: 1.13.0 Command: /home/biocbuild/R/R/bin/R CMD build --keep-empty-dirs --no-resave-data deconvR StartedAt: 2025-01-28 22:19:01 -0000 (Tue, 28 Jan 2025) EndedAt: 2025-01-28 22:21:44 -0000 (Tue, 28 Jan 2025) EllapsedTime: 163.0 seconds RetCode: 0 Status: OK PackageFile: deconvR_1.13.0.tar.gz PackageFileSize: 3.854 MiB