Package: deconvR Version: 1.13.0 Command: /Library/Frameworks/R.framework/Resources/bin/R CMD build --keep-empty-dirs --no-resave-data deconvR StartedAt: 2025-02-09 16:29:10 -0500 (Sun, 09 Feb 2025) EndedAt: 2025-02-09 16:31:51 -0500 (Sun, 09 Feb 2025) EllapsedTime: 160.3 seconds RetCode: 0 Status: OK PackageFile: deconvR_1.13.0.tar.gz PackageFileSize: 3.789 MiB