Package: deconvR Version: 1.13.0 Command: /Library/Frameworks/R.framework/Resources/bin/R CMD check --install=check:deconvR.install-out.txt --library=/Library/Frameworks/R.framework/Resources/library --no-vignettes --timings deconvR_1.13.0.tar.gz StartedAt: 2025-02-09 20:10:47 -0500 (Sun, 09 Feb 2025) EndedAt: 2025-02-09 20:26:11 -0500 (Sun, 09 Feb 2025) EllapsedTime: 923.7 seconds RetCode: 0 Status: OK CheckDir: deconvR.Rcheck Warnings: 0