Package: deconvR Version: 1.13.0 Command: /home/biocbuild/bbs-3.21-bioc/R/bin/R CMD build --keep-empty-dirs --no-resave-data deconvR StartedAt: 2025-02-09 16:55:14 -0500 (Sun, 09 Feb 2025) EndedAt: 2025-02-09 16:57:12 -0500 (Sun, 09 Feb 2025) EllapsedTime: 118.4 seconds RetCode: 0 Status: OK PackageFile: deconvR_1.13.0.tar.gz PackageFileSize: 3.789 MiB