Package: deconvR Version: 1.13.0 Command: /home/biocbuild/bbs-3.21-bioc/R/bin/R CMD INSTALL deconvR StartedAt: 2025-02-09 15:44:54 -0500 (Sun, 09 Feb 2025) EndedAt: 2025-02-09 15:45:45 -0500 (Sun, 09 Feb 2025) EllapsedTime: 51.3 seconds RetCode: 0 Status: OK