Package: deconvR Version: 1.13.0 Command: rm -rf deconvR.buildbin-libdir && mkdir deconvR.buildbin-libdir && E:\biocbuild\bbs-3.21-bioc\R\bin\R.exe CMD INSTALL --build --library=deconvR.buildbin-libdir deconvR_1.13.0.tar.gz StartedAt: 2025-02-13 07:46:10 -0500 (Thu, 13 Feb 2025) EndedAt: 2025-02-13 07:47:07 -0500 (Thu, 13 Feb 2025) EllapsedTime: 57.3 seconds RetCode: 0 Status: OK PackageFile: deconvR_1.13.0.zip PackageFileSize: 3.817 MiB