Package: deconvR Version: 1.13.0 Command: E:\biocbuild\bbs-3.21-bioc\R\bin\R.exe CMD INSTALL deconvR StartedAt: 2025-02-09 16:58:41 -0500 (Sun, 09 Feb 2025) EndedAt: 2025-02-09 16:59:41 -0500 (Sun, 09 Feb 2025) EllapsedTime: 59.2 seconds RetCode: 0 Status: OK