Package: deepSNV Version: 1.53.0 Command: /Library/Frameworks/R.framework/Resources/bin/R CMD build --keep-empty-dirs --no-resave-data deepSNV StartedAt: 2025-02-04 16:05:31 -0500 (Tue, 04 Feb 2025) EndedAt: 2025-02-04 16:06:05 -0500 (Tue, 04 Feb 2025) EllapsedTime: 34.3 seconds RetCode: 0 Status: OK PackageFile: deepSNV_1.53.0.tar.gz PackageFileSize: 2.529 MiB