Package: deepSNV Version: 1.53.0 Command: /Library/Frameworks/R.framework/Resources/bin/R CMD INSTALL deepSNV StartedAt: 2025-02-04 15:11:11 -0500 (Tue, 04 Feb 2025) EndedAt: 2025-02-04 15:11:29 -0500 (Tue, 04 Feb 2025) EllapsedTime: 18.0 seconds RetCode: 0 Status: OK