Package: deepSNV Version: 1.53.0 Command: /Library/Frameworks/R.framework/Resources/bin/R CMD check --install=check:deepSNV.install-out.txt --library=/Library/Frameworks/R.framework/Resources/library --no-vignettes --timings deepSNV_1.53.0.tar.gz StartedAt: 2025-02-04 19:58:50 -0500 (Tue, 04 Feb 2025) EndedAt: 2025-02-04 20:04:30 -0500 (Tue, 04 Feb 2025) EllapsedTime: 340.1 seconds RetCode: 0 Status: OK CheckDir: deepSNV.Rcheck Warnings: 0