Package: deepSNV Version: 1.53.0 Command: /home/biocbuild/bbs-3.21-bioc/R/bin/R CMD INSTALL deepSNV StartedAt: 2025-02-09 15:39:32 -0500 (Sun, 09 Feb 2025) EndedAt: 2025-02-09 15:40:18 -0500 (Sun, 09 Feb 2025) EllapsedTime: 45.7 seconds RetCode: 0 Status: OK