Package: deepSNV Version: 1.53.0 Command: rm -rf deepSNV.buildbin-libdir && mkdir deepSNV.buildbin-libdir && E:\biocbuild\bbs-3.21-bioc\R\bin\R.exe CMD INSTALL --build --library=deepSNV.buildbin-libdir deepSNV_1.53.0.tar.gz StartedAt: 2025-02-10 07:35:34 -0500 (Mon, 10 Feb 2025) EndedAt: 2025-02-10 07:36:47 -0500 (Mon, 10 Feb 2025) EllapsedTime: 72.3 seconds RetCode: 0 Status: OK PackageFile: deepSNV_1.53.0.zip PackageFileSize: 7.433 MiB