Package: deepSNV Version: 1.53.0 Command: E:\biocbuild\bbs-3.21-bioc\R\bin\R.exe CMD check --no-multiarch --install=check:deepSNV.install-out.txt --library=E:\biocbuild\bbs-3.21-bioc\R\library --no-vignettes --timings deepSNV_1.53.0.tar.gz StartedAt: 2025-02-05 00:44:35 -0500 (Wed, 05 Feb 2025) EndedAt: 2025-02-05 00:52:03 -0500 (Wed, 05 Feb 2025) EllapsedTime: 448.0 seconds RetCode: 0 Status: OK CheckDir: deepSNV.Rcheck Warnings: 0