Package: deepSNV Version: 1.53.0 Command: E:\biocbuild\bbs-3.21-bioc\R\bin\R.exe CMD INSTALL deepSNV StartedAt: 2025-02-04 16:10:20 -0500 (Tue, 04 Feb 2025) EndedAt: 2025-02-04 16:11:37 -0500 (Tue, 04 Feb 2025) EllapsedTime: 76.9 seconds RetCode: 0 Status: OK