Package: demuxSNP Version: 1.5.0 Command: /Library/Frameworks/R.framework/Resources/bin/R CMD check --install=check:demuxSNP.install-out.txt --library=/Library/Frameworks/R.framework/Resources/library --no-vignettes --timings demuxSNP_1.5.0.tar.gz StartedAt: 2025-02-04 18:56:43 -0500 (Tue, 04 Feb 2025) EndedAt: 2025-02-04 19:00:08 -0500 (Tue, 04 Feb 2025) EllapsedTime: 204.5 seconds RetCode: 0 Status: OK CheckDir: demuxSNP.Rcheck Warnings: 0