Package: demuxSNP Version: 1.5.0 Command: /Library/Frameworks/R.framework/Resources/bin/R CMD INSTALL demuxSNP StartedAt: 2025-02-04 15:11:38 -0500 (Tue, 04 Feb 2025) EndedAt: 2025-02-04 15:11:57 -0500 (Tue, 04 Feb 2025) EllapsedTime: 19.4 seconds RetCode: 0 Status: OK