Package: demuxSNP Version: 1.5.0 Command: /home/biocbuild/R/R/bin/R CMD check --install=check:demuxSNP.install-out.txt --library=/home/biocbuild/R/R/site-library --no-vignettes --timings demuxSNP_1.5.0.tar.gz StartedAt: 2025-01-28 09:52:59 -0000 (Tue, 28 Jan 2025) EndedAt: 2025-01-28 10:05:09 -0000 (Tue, 28 Jan 2025) EllapsedTime: 730.9 seconds RetCode: 0 Status: OK CheckDir: demuxSNP.Rcheck Warnings: 0