Package: demuxSNP Version: 1.5.0 Command: /home/biocbuild/R/R/bin/R CMD INSTALL demuxSNP StartedAt: 2025-01-29 19:57:10 -0000 (Wed, 29 Jan 2025) EndedAt: 2025-01-29 19:58:13 -0000 (Wed, 29 Jan 2025) EllapsedTime: 62.6 seconds RetCode: 0 Status: OK