Package: demuxSNP Version: 1.5.0 Command: rm -rf demuxSNP.buildbin-libdir && mkdir demuxSNP.buildbin-libdir && /Users/biocbuild/BBS/utils/build-universal.sh demuxSNP_1.5.0.tar.gz /Library/Frameworks/R.framework/Resources/bin/R demuxSNP.buildbin-libdir StartedAt: 2025-02-05 00:36:37 -0500 (Wed, 05 Feb 2025) EndedAt: 2025-02-05 00:37:40 -0500 (Wed, 05 Feb 2025) EllapsedTime: 63.5 seconds RetCode: 0 Status: OK PackageFile: demuxSNP_1.5.0.tgz PackageFileSize: 1.967 MiB