Package: demuxSNP Version: 1.5.0 Command: /Library/Frameworks/R.framework/Resources/bin/R CMD build --keep-empty-dirs --no-resave-data demuxSNP StartedAt: 2025-02-04 16:28:11 -0500 (Tue, 04 Feb 2025) EndedAt: 2025-02-04 16:30:35 -0500 (Tue, 04 Feb 2025) EllapsedTime: 144.8 seconds RetCode: 0 Status: OK PackageFile: demuxSNP_1.5.0.tar.gz PackageFileSize: 1.977 MiB