Package: demuxSNP Version: 1.5.0 Command: /Library/Frameworks/R.framework/Resources/bin/R CMD check --install=check:demuxSNP.install-out.txt --library=/Library/Frameworks/R.framework/Resources/library --no-vignettes --timings demuxSNP_1.5.0.tar.gz StartedAt: 2025-02-04 20:02:55 -0500 (Tue, 04 Feb 2025) EndedAt: 2025-02-04 20:12:24 -0500 (Tue, 04 Feb 2025) EllapsedTime: 569.0 seconds RetCode: 0 Status: OK CheckDir: demuxSNP.Rcheck Warnings: 0