Package: demuxSNP Version: 1.5.0 Command: /home/biocbuild/bbs-3.21-bioc/R/bin/R CMD build --keep-empty-dirs --no-resave-data demuxSNP StartedAt: 2025-02-04 16:55:39 -0500 (Tue, 04 Feb 2025) EndedAt: 2025-02-04 16:57:50 -0500 (Tue, 04 Feb 2025) EllapsedTime: 131.1 seconds RetCode: 0 Status: OK PackageFile: demuxSNP_1.5.0.tar.gz PackageFileSize: 1.968 MiB