Package: demuxSNP Version: 1.5.0 Command: chmod a+r demuxSNP -R && E:\biocbuild\bbs-3.21-bioc\R\bin\R.exe CMD build --keep-empty-dirs --no-resave-data demuxSNP StartedAt: 2025-02-04 18:17:42 -0500 (Tue, 04 Feb 2025) EndedAt: 2025-02-04 18:21:22 -0500 (Tue, 04 Feb 2025) EllapsedTime: 220.3 seconds RetCode: 0 Status: OK PackageFile: demuxSNP_1.5.0.tar.gz PackageFileSize: 1.595 MiB