Package: demuxSNP Version: 1.5.0 Command: E:\biocbuild\bbs-3.21-bioc\R\bin\R.exe CMD INSTALL demuxSNP StartedAt: 2025-02-04 16:11:16 -0500 (Tue, 04 Feb 2025) EndedAt: 2025-02-04 16:12:08 -0500 (Tue, 04 Feb 2025) EllapsedTime: 51.5 seconds RetCode: 0 Status: OK