Package: densvis Version: 1.17.0 Command: /Library/Frameworks/R.framework/Resources/bin/R CMD INSTALL densvis StartedAt: 2025-02-09 15:03:33 -0500 (Sun, 09 Feb 2025) EndedAt: 2025-02-09 15:03:39 -0500 (Sun, 09 Feb 2025) EllapsedTime: 6.5 seconds RetCode: 0 Status: OK