Package: densvis Version: 1.17.0 Command: /Library/Frameworks/R.framework/Resources/bin/R CMD build --keep-empty-dirs --no-resave-data densvis StartedAt: 2025-02-12 16:29:00 -0500 (Wed, 12 Feb 2025) EndedAt: 2025-02-12 16:32:40 -0500 (Wed, 12 Feb 2025) EllapsedTime: 220.4 seconds RetCode: 0 Status: OK PackageFile: densvis_1.17.0.tar.gz PackageFileSize: 1.774 MiB