Package: densvis Version: 1.17.0 Command: /Library/Frameworks/R.framework/Resources/bin/R CMD check --install=check:densvis.install-out.txt --library=/Library/Frameworks/R.framework/Resources/library --no-vignettes --timings densvis_1.17.0.tar.gz StartedAt: 2025-02-09 20:14:58 -0500 (Sun, 09 Feb 2025) EndedAt: 2025-02-09 20:17:14 -0500 (Sun, 09 Feb 2025) EllapsedTime: 135.3 seconds RetCode: 0 Status: OK CheckDir: densvis.Rcheck Warnings: 0