Package: densvis Version: 1.17.0 Command: rm -rf densvis.buildbin-libdir && mkdir densvis.buildbin-libdir && E:\biocbuild\bbs-3.21-bioc\R\bin\R.exe CMD INSTALL --build --library=densvis.buildbin-libdir densvis_1.17.0.tar.gz StartedAt: 2025-02-10 07:36:54 -0500 (Mon, 10 Feb 2025) EndedAt: 2025-02-10 07:37:26 -0500 (Mon, 10 Feb 2025) EllapsedTime: 32.6 seconds RetCode: 0 Status: OK PackageFile: densvis_1.17.0.zip PackageFileSize: 1019 KiB