Package: densvis Version: 1.17.0 Command: E:\biocbuild\bbs-3.21-bioc\R\bin\R.exe CMD INSTALL densvis StartedAt: 2025-02-09 15:29:09 -0500 (Sun, 09 Feb 2025) EndedAt: 2025-02-09 15:29:40 -0500 (Sun, 09 Feb 2025) EllapsedTime: 31.0 seconds RetCode: 0 Status: OK