Package: derfinder Version: 1.41.0 Command: rm -rf derfinder.buildbin-libdir && mkdir derfinder.buildbin-libdir && E:\biocbuild\bbs-3.21-bioc\R\bin\R.exe CMD INSTALL --build --library=derfinder.buildbin-libdir derfinder_1.41.0.tar.gz StartedAt: 2025-02-10 07:37:08 -0500 (Mon, 10 Feb 2025) EndedAt: 2025-02-10 07:38:13 -0500 (Mon, 10 Feb 2025) EllapsedTime: 64.4 seconds RetCode: 0 Status: OK PackageFile: derfinder_1.41.0.zip PackageFileSize: 1.303 MiB