Package: derfinderHelper Version: 1.41.0 Command: /Library/Frameworks/R.framework/Resources/bin/R CMD build --keep-empty-dirs --no-resave-data derfinderHelper StartedAt: 2025-02-09 16:07:22 -0500 (Sun, 09 Feb 2025) EndedAt: 2025-02-09 16:07:29 -0500 (Sun, 09 Feb 2025) EllapsedTime: 7.1 seconds RetCode: 0 Status: OK PackageFile: derfinderHelper_1.41.0.tar.gz PackageFileSize: 309.9 KiB