Package: derfinderHelper Version: 1.41.0 Command: /Library/Frameworks/R.framework/Resources/bin/R CMD INSTALL derfinderHelper StartedAt: 2025-02-09 15:02:45 -0500 (Sun, 09 Feb 2025) EndedAt: 2025-02-09 15:02:48 -0500 (Sun, 09 Feb 2025) EllapsedTime: 3.7 seconds RetCode: 0 Status: OK