Package: derfinderHelper Version: 1.41.0 Command: /home/biocbuild/bbs-3.21-bioc/R/bin/R CMD check --install=check:derfinderHelper.install-out.txt --library=/home/biocbuild/bbs-3.21-bioc/R/site-library --timings derfinderHelper_1.41.0.tar.gz StartedAt: 2025-02-09 21:42:23 -0500 (Sun, 09 Feb 2025) EndedAt: 2025-02-09 21:43:45 -0500 (Sun, 09 Feb 2025) EllapsedTime: 82.1 seconds RetCode: 0 Status: OK CheckDir: derfinderHelper.Rcheck Warnings: 0