Package: derfinderPlot Version: 1.41.0 Command: rm -rf derfinderPlot.buildbin-libdir && mkdir derfinderPlot.buildbin-libdir && /Users/biocbuild/BBS/utils/build-universal.sh derfinderPlot_1.41.0.tar.gz /Library/Frameworks/R.framework/Resources/bin/R derfinderPlot.buildbin-libdir StartedAt: 2025-02-09 22:12:08 -0500 (Sun, 09 Feb 2025) EndedAt: 2025-02-09 22:12:31 -0500 (Sun, 09 Feb 2025) EllapsedTime: 22.5 seconds RetCode: 0 Status: OK PackageFile: derfinderPlot_1.41.0.tgz PackageFileSize: 2.475 MiB