Package: derfinderPlot Version: 1.41.0 Command: /Library/Frameworks/R.framework/Resources/bin/R CMD check --install=check:derfinderPlot.install-out.txt --library=/Library/Frameworks/R.framework/Resources/library --no-vignettes --timings derfinderPlot_1.41.0.tar.gz StartedAt: 2025-02-12 18:59:31 -0500 (Wed, 12 Feb 2025) EndedAt: 2025-02-12 19:02:52 -0500 (Wed, 12 Feb 2025) EllapsedTime: 200.4 seconds RetCode: 0 Status: OK CheckDir: derfinderPlot.Rcheck Warnings: 0