Package: derfinderPlot Version: 1.41.0 Command: /Library/Frameworks/R.framework/Resources/bin/R CMD INSTALL derfinderPlot StartedAt: 2025-02-09 15:17:58 -0500 (Sun, 09 Feb 2025) EndedAt: 2025-02-09 15:18:19 -0500 (Sun, 09 Feb 2025) EllapsedTime: 20.8 seconds RetCode: 0 Status: OK