Package: derfinderPlot Version: 1.41.0 Command: /home/biocbuild/R/R/bin/R CMD INSTALL derfinderPlot StartedAt: 2025-01-29 20:12:49 -0000 (Wed, 29 Jan 2025) EndedAt: 2025-01-29 20:13:58 -0000 (Wed, 29 Jan 2025) EllapsedTime: 69.2 seconds RetCode: 0 Status: OK