Package: derfinderPlot Version: 1.41.0 Command: rm -rf derfinderPlot.buildbin-libdir && mkdir derfinderPlot.buildbin-libdir && /Users/biocbuild/BBS/utils/build-universal.sh derfinderPlot_1.41.0.tar.gz /Library/Frameworks/R.framework/Resources/bin/R derfinderPlot.buildbin-libdir StartedAt: 2025-02-10 00:50:25 -0500 (Mon, 10 Feb 2025) EndedAt: 2025-02-10 00:51:37 -0500 (Mon, 10 Feb 2025) EllapsedTime: 72.7 seconds RetCode: 0 Status: OK PackageFile: derfinderPlot_1.41.0.tgz PackageFileSize: 2.469 MiB