Package: derfinderPlot Version: 1.41.0 Command: /Library/Frameworks/R.framework/Resources/bin/R CMD INSTALL derfinderPlot StartedAt: 2025-02-12 15:29:17 -0500 (Wed, 12 Feb 2025) EndedAt: 2025-02-12 15:30:25 -0500 (Wed, 12 Feb 2025) EllapsedTime: 68.8 seconds RetCode: 0 Status: OK